OziExplorer Map Data File Version 2.2
H41_tr.jpg
D:\Pliki\Docs\Moje_dokumenty\priv\Dom\Nawigacja\H41\h41_tr.jpg
1 ,Map Code,
WGS 84,, 0.0000, 0.0000,WGS 84
Reserved 1
Reserved 2
Magnetic Variation,,,E
Map Projection,Latitude/Longitude,PolyCal,No,AutoCalOnly,No,BSBUseWPX,No
Point01,xy, 309, 575,in, deg, 54, 6.7375,N, 17, 10.8858,E, grid, , , ,N
Point02,xy, 2760, 795,in, deg, 54, 5.7545,N, 17, 29.7058,E, grid, , , ,N
Point03,xy, 3396, 3137,in, deg, 53, 55.0462,N, 17, 34.5589,E, grid, , , ,N
Point04,xy, 944, 4159,in, deg, 53, 50.3051,N, 17, 15.6401,E, grid, , , ,N
Point05,xy, 217, 2579,in, deg, 53, 57.5891,N, 17, 10.1134,E, grid, , , ,N
Point06,xy, , ,in, deg, , ,N, , ,W, grid, , , ,N
Point07,xy, , ,in, deg, , ,N, , ,W, grid, , , ,N
Point08,xy, , ,in, deg, , ,N, , ,W, grid, , , ,N
Point09,xy, , ,in, deg, , ,N, , ,W, grid, , , ,N
Point10,xy, , ,in, deg, , ,, , ,, grid, , , ,
Point11,xy, , ,in, deg, , ,, , ,, grid, , , ,
Point12,xy, , ,in, deg, , ,, , ,, grid, , , ,
Point13,xy, , ,in, deg, , ,, , ,, grid, , , ,
Point14,xy, , ,in, deg, , ,, , ,, grid, , , ,
Point15,xy, , ,in, deg, , ,, , ,, grid, , , ,
Point16,xy, , ,in, deg, , ,, , ,, grid, , , ,
Point17,xy, , ,in, deg, , ,, , ,, grid, , , ,
Point18,xy, , ,in, deg, , ,, , ,, grid, , , ,
Point19,xy, , ,in, deg, , ,, , ,, grid, , , ,
Point20,xy, , ,in, deg, , ,, , ,, grid, , , ,
Point21,xy, , ,in, deg, , ,, , ,, grid, , , ,
Point22,xy, , ,in, deg, , ,, , ,, grid, , , ,
Point23,xy, , ,in, deg, , ,, , ,, grid, , , ,
Point24,xy, , ,in, deg, , ,, , ,, grid, , , ,
Point25,xy, , ,in, deg, , ,, , ,, grid, , , ,
Point26,xy, , ,in, deg, , ,, , ,, grid, , , ,
Point27,xy, , ,in, deg, , ,, , ,, grid, , , ,
Point28,xy, , ,in, deg, , ,, , ,, grid, , , ,
Point29,xy, , ,in, deg, , ,, , ,, grid, , , ,
Point30,xy, , ,in, deg, , ,, , ,, grid, , , ,
Projection Setup,,,,,,,,,,
Map Feature = MF ; Map Comment = MC These follow if they exist
Track File = TF These follow if they exist
Moving Map Parameters = MM? These follow if they exist
MM0,Yes
MMPNUM,4
MMPXY,1,0,0
MMPXY,2,3518,0
MMPXY,3,3518,4962
MMPXY,4,0,4962
MMPLL,1, 17.141961, 54.156305
MMPLL,2, 17.592938, 54.156870
MMPLL,3, 17.590441, 53.777880
MMPLL,4, 17.139464, 53.777315
MM1B,8.416211
MOP,Map Open Position,0,0
IWH,Map Image Width/Height,3518,4962
